Package: maaslin3 Version: 0.99.4 Command: chmod a+r maaslin3 -R && E:\biocbuild\bbs-3.21-bioc\R\bin\R.exe CMD build --keep-empty-dirs --no-resave-data maaslin3 StartedAt: 2025-02-04 19:38:36 -0500 (Tue, 04 Feb 2025) EndedAt: 2025-02-04 19:50:31 -0500 (Tue, 04 Feb 2025) EllapsedTime: 715.0 seconds RetCode: 0 Status: OK PackageFile: maaslin3_0.99.4.tar.gz PackageFileSize: 1.372 MiB