Package: maaslin3 Version: 0.99.4 Command: E:\biocbuild\bbs-3.21-bioc\R\bin\R.exe CMD check --no-multiarch --install=check:maaslin3.install-out.txt --library=E:\biocbuild\bbs-3.21-bioc\R\library --no-vignettes --timings maaslin3_0.99.4.tar.gz StartedAt: 2025-02-05 02:55:26 -0500 (Wed, 05 Feb 2025) EndedAt: 2025-02-05 03:06:10 -0500 (Wed, 05 Feb 2025) EllapsedTime: 643.3 seconds RetCode: 0 Status: OK CheckDir: maaslin3.Rcheck Warnings: 0