Package: maaslin3 Version: 0.99.4 Command: E:\biocbuild\bbs-3.21-bioc\R\bin\R.exe CMD INSTALL maaslin3 StartedAt: 2025-02-09 16:26:39 -0500 (Sun, 09 Feb 2025) EndedAt: 2025-02-09 16:27:28 -0500 (Sun, 09 Feb 2025) EllapsedTime: 48.9 seconds RetCode: 0 Status: OK