Package: made4 Version: 1.81.0 Command: /Library/Frameworks/R.framework/Resources/bin/R CMD build --keep-empty-dirs --no-resave-data made4 StartedAt: 2025-02-09 16:47:20 -0500 (Sun, 09 Feb 2025) EndedAt: 2025-02-09 16:47:37 -0500 (Sun, 09 Feb 2025) EllapsedTime: 16.2 seconds RetCode: 0 Status: OK PackageFile: made4_1.81.0.tar.gz PackageFileSize: 2.509 MiB