Package: made4 Version: 1.81.0 Command: /Library/Frameworks/R.framework/Resources/bin/R CMD check --install=check:made4.install-out.txt --library=/Library/Frameworks/R.framework/Resources/library --no-vignettes --timings made4_1.81.0.tar.gz StartedAt: 2025-02-09 19:53:47 -0500 (Sun, 09 Feb 2025) EndedAt: 2025-02-09 19:54:47 -0500 (Sun, 09 Feb 2025) EllapsedTime: 59.7 seconds RetCode: 0 Status: OK CheckDir: made4.Rcheck Warnings: 0