Package: made4 Version: 1.81.0 Command: rm -rf made4.buildbin-libdir && mkdir made4.buildbin-libdir && /Users/biocbuild/BBS/utils/build-universal.sh made4_1.81.0.tar.gz /Library/Frameworks/R.framework/Resources/bin/R made4.buildbin-libdir StartedAt: 2025-02-10 01:00:38 -0500 (Mon, 10 Feb 2025) EndedAt: 2025-02-10 01:01:13 -0500 (Mon, 10 Feb 2025) EllapsedTime: 34.8 seconds RetCode: 0 Status: OK PackageFile: made4_1.81.0.tgz PackageFileSize: 2.267 MiB