Package: made4 Version: 1.81.0 Command: /home/biocbuild/bbs-3.21-bioc/R/bin/R CMD build --keep-empty-dirs --no-resave-data made4 StartedAt: 2025-02-04 17:51:52 -0500 (Tue, 04 Feb 2025) EndedAt: 2025-02-04 17:52:30 -0500 (Tue, 04 Feb 2025) EllapsedTime: 38.1 seconds RetCode: 0 Status: OK PackageFile: made4_1.81.0.tar.gz PackageFileSize: 2.72 MiB