Package: made4 Version: 1.81.0 Command: /home/biocbuild/bbs-3.21-bioc/R/bin/R CMD INSTALL made4 StartedAt: 2025-02-03 15:28:38 -0500 (Mon, 03 Feb 2025) EndedAt: 2025-02-03 15:28:59 -0500 (Mon, 03 Feb 2025) EllapsedTime: 21.4 seconds RetCode: 0 Status: OK