Package: made4 Version: 1.81.0 Command: rm -rf made4.buildbin-libdir && mkdir made4.buildbin-libdir && E:\biocbuild\bbs-3.21-bioc\R\bin\R.exe CMD INSTALL --build --library=made4.buildbin-libdir made4_1.81.0.tar.gz StartedAt: 2025-02-05 08:15:02 -0500 (Wed, 05 Feb 2025) EndedAt: 2025-02-05 08:15:43 -0500 (Wed, 05 Feb 2025) EllapsedTime: 41.1 seconds RetCode: 0 Status: OK PackageFile: made4_1.81.0.zip PackageFileSize: 1.387 MiB