Package: made4 Version: 1.81.0 Command: E:\biocbuild\bbs-3.21-bioc\R\bin\R.exe CMD check --no-multiarch --install=check:made4.install-out.txt --library=E:\biocbuild\bbs-3.21-bioc\R\library --no-vignettes --timings made4_1.81.0.tar.gz StartedAt: 2025-02-05 02:56:19 -0500 (Wed, 05 Feb 2025) EndedAt: 2025-02-05 02:59:36 -0500 (Wed, 05 Feb 2025) EllapsedTime: 196.9 seconds RetCode: 0 Status: OK CheckDir: made4.Rcheck Warnings: 0