Package: maftools Version: 2.23.0 Command: /Library/Frameworks/R.framework/Resources/bin/R CMD build --keep-empty-dirs --no-resave-data maftools StartedAt: 2025-02-12 16:47:51 -0500 (Wed, 12 Feb 2025) EndedAt: 2025-02-12 16:49:12 -0500 (Wed, 12 Feb 2025) EllapsedTime: 80.9 seconds RetCode: 0 Status: OK PackageFile: maftools_2.23.0.tar.gz PackageFileSize: 12.3 MiB