Package: maftools Version: 2.23.0 Command: /Library/Frameworks/R.framework/Resources/bin/R CMD INSTALL maftools StartedAt: 2025-02-09 15:21:09 -0500 (Sun, 09 Feb 2025) EndedAt: 2025-02-09 15:21:16 -0500 (Sun, 09 Feb 2025) EllapsedTime: 7.0 seconds RetCode: 0 Status: OK