Package: magpie Version: 1.7.0 Command: /Library/Frameworks/R.framework/Resources/bin/R CMD build --keep-empty-dirs --no-resave-data magpie StartedAt: 2025-02-12 16:47:54 -0500 (Wed, 12 Feb 2025) EndedAt: 2025-02-12 16:48:18 -0500 (Wed, 12 Feb 2025) EllapsedTime: 24.3 seconds RetCode: 0 Status: OK PackageFile: magpie_1.7.0.tar.gz PackageFileSize: 2.289 MiB