Package: magpie Version: 1.7.0 Command: /home/biocbuild/R/R/bin/R CMD INSTALL magpie StartedAt: 2025-01-29 20:31:56 -0000 (Wed, 29 Jan 2025) EndedAt: 2025-01-29 20:32:52 -0000 (Wed, 29 Jan 2025) EllapsedTime: 55.4 seconds RetCode: 0 Status: OK