Package: magpie Version: 1.7.0 Command: /home/biocbuild/bbs-3.21-bioc/R/bin/R CMD check --install=check:magpie.install-out.txt --library=/home/biocbuild/bbs-3.21-bioc/R/site-library --timings magpie_1.7.0.tar.gz StartedAt: 2025-02-12 23:44:07 -0500 (Wed, 12 Feb 2025) EndedAt: 2025-02-12 23:48:41 -0500 (Wed, 12 Feb 2025) EllapsedTime: 274.4 seconds RetCode: 0 Status: WARNINGS CheckDir: magpie.Rcheck Warnings: 1