Package: magrene Version: 1.9.0 Command: /Library/Frameworks/R.framework/Resources/bin/R CMD build --keep-empty-dirs --no-resave-data magrene StartedAt: 2025-02-09 16:47:37 -0500 (Sun, 09 Feb 2025) EndedAt: 2025-02-09 16:47:55 -0500 (Sun, 09 Feb 2025) EllapsedTime: 18.2 seconds RetCode: 0 Status: OK PackageFile: magrene_1.9.0.tar.gz PackageFileSize: 2.256 MiB