Package: magrene Version: 1.9.0 Command: rm -rf magrene.buildbin-libdir && mkdir magrene.buildbin-libdir && /Users/biocbuild/BBS/utils/build-universal.sh magrene_1.9.0.tar.gz /Library/Frameworks/R.framework/Resources/bin/R magrene.buildbin-libdir StartedAt: 2025-02-11 01:14:44 -0500 (Tue, 11 Feb 2025) EndedAt: 2025-02-11 01:14:51 -0500 (Tue, 11 Feb 2025) EllapsedTime: 7.0 seconds RetCode: 0 Status: OK PackageFile: magrene_1.9.0.tgz PackageFileSize: 2.188 MiB