Package: magrene Version: 1.9.0 Command: /Library/Frameworks/R.framework/Resources/bin/R CMD build --keep-empty-dirs --no-resave-data magrene StartedAt: 2025-02-10 17:13:01 -0500 (Mon, 10 Feb 2025) EndedAt: 2025-02-10 17:13:52 -0500 (Mon, 10 Feb 2025) EllapsedTime: 51.4 seconds RetCode: 0 Status: OK PackageFile: magrene_1.9.0.tar.gz PackageFileSize: 2.256 MiB