Package: magrene Version: 1.9.0 Command: /Library/Frameworks/R.framework/Resources/bin/R CMD check --install=check:magrene.install-out.txt --library=/Library/Frameworks/R.framework/Resources/library --no-vignettes --timings magrene_1.9.0.tar.gz StartedAt: 2025-02-10 21:58:56 -0500 (Mon, 10 Feb 2025) EndedAt: 2025-02-10 22:00:09 -0500 (Mon, 10 Feb 2025) EllapsedTime: 72.5 seconds RetCode: 0 Status: OK CheckDir: magrene.Rcheck Warnings: 0