Package: magrene Version: 1.9.0 Command: /Library/Frameworks/R.framework/Resources/bin/R CMD INSTALL magrene StartedAt: 2025-02-10 15:14:22 -0500 (Mon, 10 Feb 2025) EndedAt: 2025-02-10 15:14:26 -0500 (Mon, 10 Feb 2025) EllapsedTime: 4.6 seconds RetCode: 0 Status: OK