Package: magrene Version: 1.9.0 Command: /home/biocbuild/bbs-3.21-bioc/R/bin/R CMD build --keep-empty-dirs --no-resave-data magrene StartedAt: 2025-02-10 18:03:21 -0500 (Mon, 10 Feb 2025) EndedAt: 2025-02-10 18:04:00 -0500 (Mon, 10 Feb 2025) EllapsedTime: 39.0 seconds RetCode: 0 Status: OK PackageFile: magrene_1.9.0.tar.gz PackageFileSize: 2.256 MiB