Package: magrene Version: 1.9.0 Command: /home/biocbuild/bbs-3.21-bioc/R/bin/R CMD check --install=check:magrene.install-out.txt --library=/home/biocbuild/bbs-3.21-bioc/R/site-library --timings magrene_1.9.0.tar.gz StartedAt: 2025-02-10 23:53:11 -0500 (Mon, 10 Feb 2025) EndedAt: 2025-02-10 23:54:38 -0500 (Mon, 10 Feb 2025) EllapsedTime: 87.1 seconds RetCode: 0 Status: OK CheckDir: magrene.Rcheck Warnings: 0