Package: magrene Version: 1.9.0 Command: /home/biocbuild/bbs-3.21-bioc/R/bin/R CMD INSTALL magrene StartedAt: 2025-02-10 15:14:10 -0500 (Mon, 10 Feb 2025) EndedAt: 2025-02-10 15:14:13 -0500 (Mon, 10 Feb 2025) EllapsedTime: 2.8 seconds RetCode: 0 Status: OK