Package: magrene Version: 1.9.0 Command: rm -rf magrene.buildbin-libdir && mkdir magrene.buildbin-libdir && E:\biocbuild\bbs-3.21-bioc\R\bin\R.exe CMD INSTALL --build --library=magrene.buildbin-libdir magrene_1.9.0.tar.gz StartedAt: 2025-02-10 08:03:45 -0500 (Mon, 10 Feb 2025) EndedAt: 2025-02-10 08:04:01 -0500 (Mon, 10 Feb 2025) EllapsedTime: 15.2 seconds RetCode: 0 Status: OK PackageFile: magrene_1.9.0.zip PackageFileSize: 2.193 MiB