Package: magrene Version: 1.9.0 Command: chmod a+r magrene -R && E:\biocbuild\bbs-3.21-bioc\R\bin\R.exe CMD build --keep-empty-dirs --no-resave-data magrene StartedAt: 2025-02-09 19:37:15 -0500 (Sun, 09 Feb 2025) EndedAt: 2025-02-09 19:38:12 -0500 (Sun, 09 Feb 2025) EllapsedTime: 57.2 seconds RetCode: 0 Status: OK PackageFile: magrene_1.9.0.tar.gz PackageFileSize: 2.256 MiB