Package: makecdfenv Version: 1.83.1 Command: /Library/Frameworks/R.framework/Resources/bin/R CMD check --install=check:makecdfenv.install-out.txt --library=/Library/Frameworks/R.framework/Resources/library --no-vignettes --timings makecdfenv_1.83.1.tar.gz StartedAt: 2025-02-09 19:54:16 -0500 (Sun, 09 Feb 2025) EndedAt: 2025-02-09 19:54:34 -0500 (Sun, 09 Feb 2025) EllapsedTime: 18.2 seconds RetCode: 0 Status: OK CheckDir: makecdfenv.Rcheck Warnings: 0