Package: makecdfenv Version: 1.83.1 Command: /Library/Frameworks/R.framework/Resources/bin/R CMD INSTALL makecdfenv StartedAt: 2025-02-09 15:02:13 -0500 (Sun, 09 Feb 2025) EndedAt: 2025-02-09 15:02:17 -0500 (Sun, 09 Feb 2025) EllapsedTime: 4.8 seconds RetCode: 0 Status: OK