Package: makecdfenv Version: 1.83.1 Command: /home/biocbuild/R/R/bin/R CMD build --keep-empty-dirs --no-resave-data makecdfenv StartedAt: 2025-01-28 23:59:02 -0000 (Tue, 28 Jan 2025) EndedAt: 2025-01-28 23:59:13 -0000 (Tue, 28 Jan 2025) EllapsedTime: 11.0 seconds RetCode: 0 Status: OK PackageFile: makecdfenv_1.83.1.tar.gz PackageFileSize: 3.248 MiB