Package: makecdfenv Version: 1.83.1 Command: /home/biocbuild/bbs-3.21-bioc/R/bin/R CMD INSTALL makecdfenv StartedAt: 2025-02-09 15:12:49 -0500 (Sun, 09 Feb 2025) EndedAt: 2025-02-09 15:12:54 -0500 (Sun, 09 Feb 2025) EllapsedTime: 4.9 seconds RetCode: 0 Status: OK