Package: mapscape Version: 1.31.0 Command: /Library/Frameworks/R.framework/Resources/bin/R CMD build --keep-empty-dirs --no-resave-data mapscape StartedAt: 2025-02-09 16:48:02 -0500 (Sun, 09 Feb 2025) EndedAt: 2025-02-09 16:48:07 -0500 (Sun, 09 Feb 2025) EllapsedTime: 5.1 seconds RetCode: 0 Status: OK PackageFile: mapscape_1.31.0.tar.gz PackageFileSize: 4.794 MiB