Package: mapscape Version: 1.31.0 Command: rm -rf mapscape.buildbin-libdir && mkdir mapscape.buildbin-libdir && /Users/biocbuild/BBS/utils/build-universal.sh mapscape_1.31.0.tar.gz /Library/Frameworks/R.framework/Resources/bin/R mapscape.buildbin-libdir StartedAt: 2025-02-10 01:00:46 -0500 (Mon, 10 Feb 2025) EndedAt: 2025-02-10 01:00:54 -0500 (Mon, 10 Feb 2025) EllapsedTime: 8.0 seconds RetCode: 0 Status: OK PackageFile: mapscape_1.31.0.tgz PackageFileSize: 4.136 MiB