Package: mapscape Version: 1.31.0 Command: /home/biocbuild/bbs-3.21-bioc/R/bin/R CMD build --keep-empty-dirs --no-resave-data mapscape StartedAt: 2025-02-04 17:52:58 -0500 (Tue, 04 Feb 2025) EndedAt: 2025-02-04 17:53:08 -0500 (Tue, 04 Feb 2025) EllapsedTime: 10.0 seconds RetCode: 0 Status: OK PackageFile: mapscape_1.31.0.tar.gz PackageFileSize: 4.794 MiB