Package: mapscape Version: 1.31.0 Command: /home/biocbuild/bbs-3.21-bioc/R/bin/R CMD check --install=check:mapscape.install-out.txt --library=/home/biocbuild/bbs-3.21-bioc/R/site-library --timings mapscape_1.31.0.tar.gz StartedAt: 2025-02-04 23:44:02 -0500 (Tue, 04 Feb 2025) EndedAt: 2025-02-04 23:44:28 -0500 (Tue, 04 Feb 2025) EllapsedTime: 26.0 seconds RetCode: 0 Status: WARNINGS CheckDir: mapscape.Rcheck Warnings: 1