Package: mapscape Version: 1.31.0 Command: rm -rf mapscape.buildbin-libdir && mkdir mapscape.buildbin-libdir && E:\biocbuild\bbs-3.21-bioc\R\bin\R.exe CMD INSTALL --build --library=mapscape.buildbin-libdir mapscape_1.31.0.tar.gz StartedAt: 2025-02-10 08:04:06 -0500 (Mon, 10 Feb 2025) EndedAt: 2025-02-10 08:04:20 -0500 (Mon, 10 Feb 2025) EllapsedTime: 14.1 seconds RetCode: 0 Status: OK PackageFile: mapscape_1.31.0.zip PackageFileSize: 4.136 MiB