Package: mapscape Version: 1.31.0 Command: chmod a+r mapscape -R && E:\biocbuild\bbs-3.21-bioc\R\bin\R.exe CMD build --keep-empty-dirs --no-resave-data mapscape StartedAt: 2025-02-09 19:38:18 -0500 (Sun, 09 Feb 2025) EndedAt: 2025-02-09 19:38:36 -0500 (Sun, 09 Feb 2025) EllapsedTime: 17.7 seconds RetCode: 0 Status: OK PackageFile: mapscape_1.31.0.tar.gz PackageFileSize: 4.795 MiB