Package: mariner Version: 1.7.0 Command: rm -rf mariner.buildbin-libdir && mkdir mariner.buildbin-libdir && /Users/biocbuild/BBS/utils/build-universal.sh mariner_1.7.0.tar.gz /Library/Frameworks/R.framework/Resources/bin/R mariner.buildbin-libdir StartedAt: 2025-02-04 22:21:31 -0500 (Tue, 04 Feb 2025) EndedAt: 2025-02-04 22:21:50 -0500 (Tue, 04 Feb 2025) EllapsedTime: 18.4 seconds RetCode: 0 Status: OK PackageFile: mariner_1.7.0.tgz PackageFileSize: 1.232 MiB