Package: mariner Version: 1.7.0 Command: /home/biocbuild/R/R/bin/R CMD INSTALL mariner StartedAt: 2025-01-29 19:59:46 -0000 (Wed, 29 Jan 2025) EndedAt: 2025-01-29 20:00:44 -0000 (Wed, 29 Jan 2025) EllapsedTime: 57.8 seconds RetCode: 0 Status: OK