Package: mariner Version: 1.7.0 Command: /Library/Frameworks/R.framework/Resources/bin/R CMD build --keep-empty-dirs --no-resave-data mariner StartedAt: 2025-02-04 17:13:25 -0500 (Tue, 04 Feb 2025) EndedAt: 2025-02-04 17:15:32 -0500 (Tue, 04 Feb 2025) EllapsedTime: 127.0 seconds RetCode: 0 Status: OK PackageFile: mariner_1.7.0.tar.gz PackageFileSize: 707.9 KiB