Package: mariner Version: 1.7.0 Command: /Library/Frameworks/R.framework/Resources/bin/R CMD INSTALL mariner StartedAt: 2025-02-04 15:19:03 -0500 (Tue, 04 Feb 2025) EndedAt: 2025-02-04 15:19:59 -0500 (Tue, 04 Feb 2025) EllapsedTime: 56.4 seconds RetCode: 0 Status: OK