Package: mariner Version: 1.7.0 Command: /home/biocbuild/bbs-3.21-bioc/R/bin/R CMD build --keep-empty-dirs --no-resave-data mariner StartedAt: 2025-02-04 17:53:03 -0500 (Tue, 04 Feb 2025) EndedAt: 2025-02-04 17:54:51 -0500 (Tue, 04 Feb 2025) EllapsedTime: 108.1 seconds RetCode: 0 Status: OK PackageFile: mariner_1.7.0.tar.gz PackageFileSize: 705 KiB