Package: mariner Version: 1.7.0 Command: /home/biocbuild/bbs-3.21-bioc/R/bin/R CMD check --install=check:mariner.install-out.txt --library=/home/biocbuild/bbs-3.21-bioc/R/site-library --timings mariner_1.7.0.tar.gz StartedAt: 2025-02-04 23:44:11 -0500 (Tue, 04 Feb 2025) EndedAt: 2025-02-04 23:55:09 -0500 (Tue, 04 Feb 2025) EllapsedTime: 657.8 seconds RetCode: 0 Status: OK CheckDir: mariner.Rcheck Warnings: 0