Package: mariner Version: 1.7.0 Command: /home/biocbuild/bbs-3.21-bioc/R/bin/R CMD INSTALL mariner StartedAt: 2025-02-04 15:33:25 -0500 (Tue, 04 Feb 2025) EndedAt: 2025-02-04 15:34:07 -0500 (Tue, 04 Feb 2025) EllapsedTime: 42.2 seconds RetCode: 0 Status: OK