Package: mariner Version: 1.7.0 Command: rm -rf mariner.buildbin-libdir && mkdir mariner.buildbin-libdir && E:\biocbuild\bbs-3.21-bioc\R\bin\R.exe CMD INSTALL --build --library=mariner.buildbin-libdir mariner_1.7.0.tar.gz StartedAt: 2025-02-05 08:15:36 -0500 (Wed, 05 Feb 2025) EndedAt: 2025-02-05 08:17:46 -0500 (Wed, 05 Feb 2025) EllapsedTime: 129.6 seconds RetCode: 0 Status: OK PackageFile: mariner_1.7.0.zip PackageFileSize: 1.232 MiB