Package: mariner Version: 1.7.0 Command: chmod a+r mariner -R && E:\biocbuild\bbs-3.21-bioc\R\bin\R.exe CMD build --keep-empty-dirs --no-resave-data mariner StartedAt: 2025-02-04 19:40:39 -0500 (Tue, 04 Feb 2025) EndedAt: 2025-02-04 19:47:41 -0500 (Tue, 04 Feb 2025) EllapsedTime: 422.4 seconds RetCode: 0 Status: OK PackageFile: mariner_1.7.0.tar.gz PackageFileSize: 705.6 KiB