Package: mariner Version: 1.7.0 Command: E:\biocbuild\bbs-3.21-bioc\R\bin\R.exe CMD check --no-multiarch --install=check:mariner.install-out.txt --library=E:\biocbuild\bbs-3.21-bioc\R\library --no-vignettes --timings mariner_1.7.0.tar.gz StartedAt: 2025-02-05 02:58:50 -0500 (Wed, 05 Feb 2025) EndedAt: 2025-02-05 03:16:03 -0500 (Wed, 05 Feb 2025) EllapsedTime: 1032.6 seconds RetCode: 0 Status: OK CheckDir: mariner.Rcheck Warnings: 0