Package: mariner Version: 1.7.0 Command: E:\biocbuild\bbs-3.21-bioc\R\bin\R.exe CMD INSTALL mariner StartedAt: 2025-02-04 15:58:38 -0500 (Tue, 04 Feb 2025) EndedAt: 2025-02-04 15:59:57 -0500 (Tue, 04 Feb 2025) EllapsedTime: 79.3 seconds RetCode: 0 Status: OK