Package: marr Version: 1.17.0 Command: rm -rf marr.buildbin-libdir && mkdir marr.buildbin-libdir && /Users/biocbuild/BBS/utils/build-universal.sh marr_1.17.0.tar.gz /Library/Frameworks/R.framework/Resources/bin/R marr.buildbin-libdir StartedAt: 2025-02-09 22:19:41 -0500 (Sun, 09 Feb 2025) EndedAt: 2025-02-09 22:19:54 -0500 (Sun, 09 Feb 2025) EllapsedTime: 13.3 seconds RetCode: 0 Status: OK PackageFile: marr_1.17.0.tgz PackageFileSize: 807.4 KiB