Package: marr Version: 1.17.0 Command: /Library/Frameworks/R.framework/Resources/bin/R CMD build --keep-empty-dirs --no-resave-data marr StartedAt: 2025-02-09 16:48:07 -0500 (Sun, 09 Feb 2025) EndedAt: 2025-02-09 16:48:27 -0500 (Sun, 09 Feb 2025) EllapsedTime: 20.2 seconds RetCode: 0 Status: OK PackageFile: marr_1.17.0.tar.gz PackageFileSize: 590.8 KiB