Package: marr Version: 1.17.0 Command: /Library/Frameworks/R.framework/Resources/bin/R CMD INSTALL marr StartedAt: 2025-02-03 15:40:39 -0500 (Mon, 03 Feb 2025) EndedAt: 2025-02-03 15:40:52 -0500 (Mon, 03 Feb 2025) EllapsedTime: 12.5 seconds RetCode: 0 Status: OK