Package: marr Version: 1.17.0 Command: /home/biocbuild/R/R/bin/R CMD build --keep-empty-dirs --no-resave-data marr StartedAt: 2025-01-28 23:59:50 -0000 (Tue, 28 Jan 2025) EndedAt: 2025-01-29 00:00:56 -0000 (Wed, 29 Jan 2025) EllapsedTime: 66.0 seconds RetCode: 0 Status: OK PackageFile: marr_1.17.0.tar.gz PackageFileSize: 652.7 KiB